BEGIN:VCALENDAR
VERSION:2.0
CALSCALE:GREGORIAN
BEGIN:VEVENT
SUMMARY:Aquarian Sadhana. 2 uren lang.
DTSTART;TZID=Europe/Amsterdam:20260426T110000
DTEND;TZID=Europe/Amsterdam:20260426T130000
LOCATION:Yoga Studio Diemen
DESCRIPTION: Aquarian sadhana.

Instudio (dus jij in Yoga Studio Diemen) én online livestream (dus jij thuis). Hier gaat het over de online livestream les.

Voor meer info over Aquarian Sadhana zie de instudioles.

Het is erg belangrijk dat je er voor zorgt dat je thuis de tekst hebt van de Japji en van de 7 mantra&#039;s die we doen.
Deze bijeenkomst valt niet onder je maandabonnement.
Koop a.u.b. een passend ticket.
liefs
Annie
STATUS:CONFIRMED
SEQUENCE:0
END:VEVENT
END:VCALENDAR