BEGIN:VCALENDAR
VERSION:2.0
CALSCALE:GREGORIAN
BEGIN:VEVENT
SUMMARY:Energietekenen
DTSTART;TZID=Europe/Amsterdam:20251125T200000
DTEND;TZID=Europe/Amsterdam:20251125T210000
LOCATION:Yoga Studio Diemen
DESCRIPTION: Belangstelling?
Laat het me weten.
info@yogadiemen.nl
STATUS:CONFIRMED
SEQUENCE:0
END:VEVENT
END:VCALENDAR