BEGIN:VCALENDAR
VERSION:2.0
CALSCALE:GREGORIAN
BEGIN:VEVENT
SUMMARY:Hatha Yoga (Iris Koenders)
DTSTART;TZID=Europe/Amsterdam:20240704T190000
DTEND;TZID=Europe/Amsterdam:20240704T200000
LOCATION:Krommenie
DESCRIPTION: 
STATUS:CONFIRMED
SEQUENCE:0
END:VEVENT
END:VCALENDAR