BEGIN:VCALENDAR
VERSION:2.0
CALSCALE:GREGORIAN
BEGIN:VEVENT
SUMMARY:NIEUW: Volle Maan Cirkel
DTSTART;TZID=Europe/Amsterdam:20221208T190000
DTEND;TZID=Europe/Amsterdam:20221208T203000
LOCATION:Regattaweg 5
DESCRIPTION: Donderdag 8 december is het Volle Maan. Een mooi moment voor een eerste Volle Maan Cirkel. Eerder heb ik Volle Maan meditaties online georganiseerd, maar nu eindelijk eens live!

Tijdens deze cirkel gaan we de kracht van samen zijn ervaren. Een moment om bij elkaar te komen, samen te mediteren, te journalen en met elkaar te delen (dit laatste is overigens niet verplicht).  

De Volle Maan Cirkel is open voor iedereen, ongeacht of je ervaring hebt met meditatie, deelcirkels of überhaupt gelooft of niet in de kracht van de Volle Maan. De kracht van samenzijn en samen mediteren alleen al is heel erg krachtig! Laat je verrassen en inspireren op deze avond. 

De cirkel duurt minimaal 60 tot 90 minuten. Er is plek voor 15 mensen. 

Deze cirkel organiseer ik op basis van donatie. Na je deelname ontvang je een mail met een betaallink om de donatie te doen, ook is het mogelijk om te doneren in contant geld. Er is echter geen wisselgeld, dus neem dan gepast geld mee.
STATUS:CONFIRMED
SEQUENCE:0
END:VEVENT
END:VCALENDAR