BEGIN:VCALENDAR
VERSION:2.0
CALSCALE:GREGORIAN
BEGIN:VEVENT
SUMMARY:Cursus: Praktische inleiding in meditatie
DTSTART;TZID=Europe/Amsterdam:20230329T193000
DTEND;TZID=Europe/Amsterdam:20230329T203000
LOCATION:Regattaweg 5
DESCRIPTION: Deze cursus is al begonnen. Aanmelden hiervoor is niet meer mogelijk.
STATUS:CONFIRMED
SEQUENCE:0
END:VEVENT
END:VCALENDAR