BEGIN:VCALENDAR
VERSION:2.0
CALSCALE:GREGORIAN
BEGIN:VEVENT
SUMMARY:Mini-Retreat &#039;Verbinding&#039;
DTSTART;TZID=Europe/Amsterdam:20230603T100000
DTEND;TZID=Europe/Amsterdam:20230603T160000
LOCATION:Regattaweg 5
DESCRIPTION: Ongeveer eens per kwartaal organiseer ik een dag om weer dicht bij jezelf te komen. Een dag waarin je de vertraging in mag. Je mag je laten begeleiden en overgeven aan de rust. 

Deze keer staat de mini-retreat in het teken van het thema &#039;Verbinding&#039;. Het programma is op zo&#039;n manier gemaakt dat het uitnodigt om letterlijk weer met jezelf maar deze keer ook met elkaar in verbinding te komen. Een iets andere invalshoek dan anders deze keer. 

Het programma is van 10:00 - 16:00 en bestaat o.a. diverse vormen van yoga (allen rustige vormen), meditatie, ontspannningsoefeningen, pranayama (beheersing van de ademhaling) en deze keer ook specifieke oefeningen in het verbinden met elkaar. 

De mini-retreat is geheel verzorgd inclusief (vegetarische of veganistische) lunch, thee en lekkere versnaperingen gedurende de dag.

Ticketprijs €69
Early-Bird: €59 (tot 1 mei)
STATUS:CONFIRMED
SEQUENCE:0
END:VEVENT
END:VCALENDAR