BEGIN:VCALENDAR
VERSION:2.0
CALSCALE:GREGORIAN
BEGIN:VEVENT
SUMMARY:🌳YURT - Yin Flow
DTSTART;TZID=Europe/Amsterdam:20260204T193000
DTEND;TZID=Europe/Amsterdam:20260204T204500
LOCATION:YURT Yoga, Hesterweg 19
DESCRIPTION: Yin Flow – in de yurt
In de yurt bewegen we in een zachte Yin Flow: yin yoga in beweging, laag bij de grond en zonder haast. De houdingen vloeien rustig in elkaar over en worden 2 tot 5 minuten gehouden, zodat het lichaam de tijd krijgt om te verzachten. Yin werkt diep door op het bindweefsel en het zenuwstelsel en nodigt je uit om spanning los te laten, te vertragen en te zakken uit je hoofd. De yurt biedt een warme, veilige bedding om te voelen, te ademen en je te laten verrassen door wat zich aandient.
STATUS:CONFIRMED
SEQUENCE:0
END:VEVENT
END:VCALENDAR