BEGIN:VCALENDAR
VERSION:2.0
CALSCALE:GREGORIAN
BEGIN:VEVENT
SUMMARY:Birthday Outdoor Yoga
DTSTART;TZID=Europe/Amsterdam:20200613T100000
DTEND;TZID=Europe/Amsterdam:20200613T110000
LOCATION:Online via Zoom
DESCRIPTION: Hatha Yoga en dan heerlijk buiten!
STATUS:CONFIRMED
SEQUENCE:0
END:VEVENT
END:VCALENDAR