BEGIN:VCALENDAR
VERSION:2.0
CALSCALE:GREGORIAN
BEGIN:VEVENT
SUMMARY:Live Online Dynamische Hatha Yoga
DTSTART;TZID=Europe/Amsterdam:20200430T193000
DTEND;TZID=Europe/Amsterdam:20200430T203000
LOCATION:Online via Zoom
DESCRIPTION: Dynamische Hatha yoga is een yogastijl die lichter is dan poweryoga en krachtiger dan hatha yoga. Door elementen van beide yogastijlen te gebruiken is easy flow yoga ontstaan. Karakteristiek voor easy flow yoga is de zachte en vrijere benadering van de houdingen.
STATUS:CONFIRMED
SEQUENCE:0
END:VEVENT
END:VCALENDAR