BEGIN:VCALENDAR
VERSION:2.0
CALSCALE:GREGORIAN
BEGIN:VEVENT
SUMMARY:Live Online Yin Yoga
DTSTART;TZID=Europe/Amsterdam:20200414T190000
DTEND;TZID=Europe/Amsterdam:20200414T200000
LOCATION:Online via Zoom
DESCRIPTION: Yin Yoga van Florentina is een langzame stijl, waarbij houdingen zo’n 2 tot 5 minuten worden aangehouden met een zo laag mogelijke spierspanning. Hierdoor kunnen gewrichten en bindweefsel herstellen, versterken en spoeler worden. Dieperliggende spieren worden gerekt en het bekkengebied wordt losgemaakt. Een uitstekende remedie tegen een zittende levensstijl.
STATUS:CONFIRMED
SEQUENCE:0
END:VEVENT
END:VCALENDAR