BEGIN:VCALENDAR
VERSION:2.0
CALSCALE:GREGORIAN
BEGIN:VEVENT
SUMMARY:Yoga voor rug, nek en schouders
DTSTART;TZID=Europe/Amsterdam:20260107T190000
DTEND;TZID=Europe/Amsterdam:20260107T200000
LOCATION:&#039;t Klooster, Ulft
DESCRIPTION: Deze les gaat vandaag niet door vanwege sneeuw en gladheid op de weg. Jullie veiligheid gaat voorop – liever ontspanning dan glijpartijen. De les kun je op een ander moment inhalen.
STATUS:CONFIRMED
SEQUENCE:0
END:VEVENT
END:VCALENDAR