BEGIN:VCALENDAR
VERSION:2.0
CALSCALE:GREGORIAN
BEGIN:VEVENT
SUMMARY:Paaseditie: Yin Yoga &amp; Yoga Nidra XXL 🐣
DTSTART;TZID=Europe/Amsterdam:20260402T190000
DTEND;TZID=Europe/Amsterdam:20260402T203000
LOCATION:&#039;t Klooster, Ulft
DESCRIPTION: Voor Pasen even helemaal opladen. Deze week een extra lange les: een uur Yin Yoga gevolgd door 30 minuten Yoga Nidra. Twee lessen, één credit — en een kopje thee staat klaar.
Fijner begin van het paasweekend bestaat niet. 🐣🤍

In deze les combineren we de kalmerende kracht van Yin Yoga met de diepe ontspanning van Yoga Nidra. Yin Yoga bestaat uit lang aangehouden, zachte houdingen die gericht zijn op het diep rekken van bindweefsel en het bevorderen van flexibiliteit. Door het langere vasthouden van de poses creëer je ruimte in je lichaam en kalmeer je je geest.

Na de Yin Yoga volgt Yoga Nidra, een begeleide meditatie die je in een diepe staat van ontspanning brengt. Hier kun je volledig loslaten, je geest tot rust brengen en herstellen op een dieper niveau. Deze les biedt je de perfecte gelegenheid om zowel lichamelijk als mentaal tot rust te komen, spanning los te laten en je energie weer in balans te brengen.

Of je nu op zoek bent naar diepe ontspanning of een manier om stress te verminderen, deze les helpt je om volledig tot jezelf te komen en met hernieuwde energie de les te verlaten. Perfect voor iedereen die behoefte heeft aan een moment van rust en innerlijke vrede.
STATUS:CONFIRMED
SEQUENCE:0
END:VEVENT
END:VCALENDAR