BEGIN:VCALENDAR
VERSION:2.0
CALSCALE:GREGORIAN
BEGIN:VEVENT
SUMMARY:Yoga Zomer Special
DTSTART;TZID=Europe/Amsterdam:20250721T193000
DTEND;TZID=Europe/Amsterdam:20250721T210000
LOCATION:Domineeslaan 91 F
DESCRIPTION: “Als je de controle loslaat gebeuren de mooiste dingen”
STATUS:CONFIRMED
SEQUENCE:0
END:VEVENT
END:VCALENDAR