BEGIN:VCALENDAR
VERSION:2.0
CALSCALE:GREGORIAN
BEGIN:VEVENT
SUMMARY:Vinyasa Flow Yoga
DTSTART;TZID=Europe/Amsterdam:20260420T184500
DTEND;TZID=Europe/Amsterdam:20260420T195500
LOCATION:Domineeslaan 91 F
DESCRIPTION: In Vinyasa Flow Yoga verbinden we ademhaling met de beweging in vloeiende zachte en dynamische overgangen. Een dynamische Yogavorm waarin zowel uitdagingen als aanpassingen worden aangeboden.

“Motion = Lotion” – Jo Phee Yinspiration
STATUS:CONFIRMED
SEQUENCE:0
END:VEVENT
END:VCALENDAR