BEGIN:VCALENDAR
VERSION:2.0
CALSCALE:GREGORIAN
BEGIN:VEVENT
SUMMARY:Yin Yoga
DTSTART;TZID=Europe/Amsterdam:20260504T201500
DTEND;TZID=Europe/Amsterdam:20260504T213000
LOCATION:Domineeslaan 91 F
DESCRIPTION: Yin Yoga verblijven we langer in houdingen om de energiestroom (Chiflow) in de meridianen te harmoniseren. We ontspannen de spieren terwijl we bindweefsel, fascia en gewrichten stimuleren. In combinatie met materialen van de Restorative Yoga Therapie. We richten ons op het cultiveren van stilte door de aandacht naar binnen te richten.


“Als je de controle loslaat gebeuren de mooiste dingen”
STATUS:CONFIRMED
SEQUENCE:0
END:VEVENT
END:VCALENDAR