BEGIN:VCALENDAR
VERSION:2.0
CALSCALE:GREGORIAN
BEGIN:VEVENT
SUMMARY:Yin Yang Yoga
DTSTART;TZID=Europe/Amsterdam:20260513T103000
DTEND;TZID=Europe/Amsterdam:20260513T114500
LOCATION:Domineeslaan 91 F
DESCRIPTION: “Yoga is calming the whirlpool of the mind” – Jo Phee Yinspiration
STATUS:CONFIRMED
SEQUENCE:0
END:VEVENT
END:VCALENDAR