BEGIN:VCALENDAR
VERSION:2.0
CALSCALE:GREGORIAN
BEGIN:VEVENT
SUMMARY:20-03-26 Workshop: 🎶Yin &amp; Soundhealing 🎶
DTSTART;TZID=Europe/Amsterdam:20260320T190000
DTEND;TZID=Europe/Amsterdam:20260320T210000
LOCATION:Domineeslaan 91 F
DESCRIPTION: Een intense sessie met div. klankschalen en vele andere geluidseffecten.
Zachte Restorative Yin houdingen om jezelf mee laten voeren met de trillingen/vibraties van de klanken. Een ware klank massage, fysiek, mentaal en emotioneel ❤️
STATUS:CONFIRMED
SEQUENCE:0
END:VEVENT
END:VCALENDAR