BEGIN:VCALENDAR
VERSION:2.0
CALSCALE:GREGORIAN
BEGIN:VEVENT
SUMMARY:Vinyasa @ La Ressource de Belleville
DTSTART;TZID=Europe/Paris:20250925T180000
DTEND;TZID=Europe/Paris:20250925T184500
LOCATION:44 rue des Rigoles 75020 Paris
DESCRIPTION: RDV au Café de la Ressource de Belleville tous les jeudis à 18h - Finissez la journée en beauté avec un vinyasa en musique pour libérer le corps et calmer l&#039;esprit.

Les tapis sont fournis, prévoyez juste une tenue confortable et une gourde.

A très vite sur le tapis !
STATUS:CONFIRMED
SEQUENCE:0
END:VEVENT
END:VCALENDAR