BEGIN:VCALENDAR
VERSION:2.0
CALSCALE:GREGORIAN
BEGIN:VEVENT
SUMMARY:Yoga Flow à Belleville – Tous les jeudis à 18h
DTSTART;TZID=Europe/Paris:20251002T180000
DTEND;TZID=Europe/Paris:20251002T184500
LOCATION:44 rue des Rigoles 75020 Paris
DESCRIPTION: Envie de décompresser après ta journée ?

Rejoins-moi chaque jeudi au café de La Ressource de Belleville (20e) pour 45 min de Vinyasa en musique : une pratique fluide pour libérer le corps, apaiser l’esprit et retrouver de l’énergie.

✅ Tous niveaux bienvenus (même débutants)
✅ Tapis fournis sur place
✅ Prix : 15 € / séance

👉 Réserve ta place dès maintenant (places limitées) et viens pratiquer dans une ambiance conviviale au cœur de Belleville.

À très vite sur le tapis ✨
STATUS:CONFIRMED
SEQUENCE:0
END:VEVENT
END:VCALENDAR