BEGIN:VCALENDAR
VERSION:2.0
CALSCALE:GREGORIAN
BEGIN:VEVENT
SUMMARY:Géén les ivm Koningsdag
DTSTART;TZID=Europe/Amsterdam:20220427T193000
DTEND;TZID=Europe/Amsterdam:20220427T203000
LOCATION:Laurierweg 104, Utrecht
DESCRIPTION: • ivm KONINGSDAG is er geen yogales vandaag •

Hatha Flow is een dynamische vorm van yoga waarbij houdingen vloeiend in elkaar overlopen. Deze les is iets uitdagender dan de Easy Flow yoga maar ook toegankelijk voor beginners. 

Je kunt de les kosteloos annuleren tot 4 uur vooraf. 

Denk aan je matje, dekentje en drinken.

Vanaf 6 november is een QR-code verplicht op deze locatie. Heb je deze niet? Boek dan de online Zoomles en doe live mee of bekijk later de replay.

Namasté, 

Kelly
STATUS:CONFIRMED
SEQUENCE:0
END:VEVENT
END:VCALENDAR