BEGIN:VCALENDAR
VERSION:2.0
CALSCALE:GREGORIAN
BEGIN:VEVENT
SUMMARY:Online Hatha Flow Yoga
DTSTART;TZID=Europe/Amsterdam:20220921T191500
DTEND;TZID=Europe/Amsterdam:20220921T201500
LOCATION:Thuis
DESCRIPTION: *Hatha Flow Yoga VIDEO*

30 minuten voorafgaand aan de les ontvang je de link automatisch in je mailbox.Je kan de les herhalen en kijken wanneer het jou uitkomt. Deze les blijft een week online beschikbaar.

Let op: je kunt deze les gratis annuleren tot 4 uur vooraf.

Namasté, 

Kelly 

www.yogatijd.nl
STATUS:CONFIRMED
SEQUENCE:0
END:VEVENT
END:VCALENDAR