BEGIN:VCALENDAR
VERSION:2.0
CALSCALE:GREGORIAN
BEGIN:VEVENT
SUMMARY:Start Yoga &amp; Mindful Zwanger - 8 lessen
DTSTART;TZID=Europe/Amsterdam:20230302T190000
DTEND;TZID=Europe/Amsterdam:20230302T203000
LOCATION:Achtergracht 16a
DESCRIPTION: 
STATUS:CONFIRMED
SEQUENCE:0
END:VEVENT
END:VCALENDAR