BEGIN:VCALENDAR
VERSION:2.0
CALSCALE:GREGORIAN
BEGIN:VEVENT
SUMMARY:Family Acro - kind 7 t/m 11
DTSTART;TZID=Europe/Amsterdam:20230617T130000
DTEND;TZID=Europe/Amsterdam:20230617T143000
LOCATION:Achtergracht 16a
DESCRIPTION: We zijn verheugd dat docent Esther Hertog twee Family Acro Yoga workshops geeft bij YogaToday. Esther is een ware specialist op dit vlak en leidt er ook docenten in op. 

Familie Acro Yoga richt zich vooral op de verbinding tussen ouder en kind. Door samen te bewegen, spelen en mediteren, ontstaat er een hechte band waarbij plezier net zo belangrijk is als rust zoeken en zorgen voor elkaar. Acrobatiek- of yoga ervaring is totaal niet nodig om mee te doen! Iedereen kan meedoen.
STATUS:CONFIRMED
SEQUENCE:0
END:VEVENT
END:VCALENDAR