BEGIN:VCALENDAR
VERSION:2.0
CALSCALE:GREGORIAN
BEGIN:VEVENT
SUMMARY:Ecstatic Dance - DJ Sefrijn
DTSTART;TZID=Europe/Amsterdam:20230421T184500
DTEND;TZID=Europe/Amsterdam:20230421T214500
LOCATION:Laurentius
DESCRIPTION: We gaan weer een bijzondere muzikale reis maken langs vele genres, emoties en tempo’s, door DJ Sefrijn naadloos aan elkaar gemixed. Ontdek zelf hoe fenomenaal hij  jou weet mee te voeren op een reis naar binnen. Met weinig woorden in een heerlijke dance set die al je zintuigen prikkelt! We kijken weer vol vreugde naar jullie uit in onze prachtige kerkzaal!

DJ Sefrijn is muzikant, multidisciplinair artiest, ondernemer en liefhebber van stilte. Ecstatic Dance is al 6 jaar zijn focus, spelende op vele locaties die deze groeiende dansvorm rijk is, zowel in NL als daarbuiten. Zijn DJ sets ontstaan altijd in het moment, de muziek wordt zorgvuldig uitgekozen met uiteenlopende genres, emoties en snelheden.

Achter de draaitafels danst Sefrijn vaak zelf uitbundig mee: (mee)beleven, (in)voelen, de muziek belichamen. Als klassiek geschoold pianist combineert hij technische muzikale kennis met een passie voor intuïtieve improvisatie. Verwacht wereld muziek gemixt met electronica. Tribal percussie, booty shaking beats, hypnotiserend en sjamanistisch, zachte ambient, speels akoestisch of meditatief en esoterisch.
STATUS:CONFIRMED
SEQUENCE:0
END:VEVENT
END:VCALENDAR