BEGIN:VCALENDAR
VERSION:2.0
CALSCALE:GREGORIAN
BEGIN:VEVENT
SUMMARY:Workshop Ouder &amp; Kind Yoga
DTSTART;TZID=Europe/Amsterdam:20230924T100000
DTEND;TZID=Europe/Amsterdam:20230924T113000
LOCATION:Achtergracht 16a
DESCRIPTION: Een leuke en heerlijke les voor kinderen vanaf 6 jaar samen met een volwassene.
In de workshop Ouder-Kind Yoga is alles gericht op samen ontdekken, aandacht geven en bewust worden. Met lichtheid en plezier!
Ouder-Kind Yoga is als een ontdekkingsreis, die je in samenspel maakt: jullie lichaam is het voertuig, adem is de motor en met jullie fantasie komen jullie overal!
Een reis van beweging naar stilte, van buiten naar binnen. Samen met je kind.
Elke workshop beweegt zich rond een thema, dat iedere keer anders is en waarin spel, beweging en asana’s, adem, ontspanning en nog veel meer aan bod komen.
STATUS:CONFIRMED
SEQUENCE:0
END:VEVENT
END:VCALENDAR