BEGIN:VCALENDAR
VERSION:2.0
CALSCALE:GREGORIAN
BEGIN:VEVENT
SUMMARY:Restorative Yoga with Bronwyn
DTSTART;TZID=Australia/Brisbane:20241221T093000
DTEND;TZID=Australia/Brisbane:20241221T104500
LOCATION:Yoga Tree Stanthorpe
DESCRIPTION: Gentle, supportive, and therapeutic are just a few words that describe restorative yoga. At its core, restorative yoga is a practice of passive healing.

This yoga style is known for its ability to activate the parasympathetic nervous system. This is the “rest and digest” part of your nervous system that helps keep basic functions working as they should. The poses embrace and support the body to relax and centre without straining, gentle on the body.  Suitable for all people wanting to relax the mind and body: Soothe the nervous system: Reduces Chronic pain; Enhances Sleep: Improves well being: works with part of overall treatment for Chronic pain: Safe during pregnancy.

Saturday November 2, 2024 this class will be offered free of charge.  Bookings essential.  Limited places.
STATUS:CONFIRMED
SEQUENCE:0
END:VEVENT
END:VCALENDAR