BEGIN:VCALENDAR
VERSION:2.0
CALSCALE:GREGORIAN
BEGIN:VEVENT
SUMMARY:Yoga Nidra
DTSTART;TZID=Europe/Amsterdam:20230812T103000
DTEND;TZID=Europe/Amsterdam:20230812T113000
LOCATION:Gerrit Varwijkplein 7
DESCRIPTION: Yoga Nidra of soms genoemd Yoga slaap. Een heel diepe ontspanning voor lichaam en geest! De hele les is in liggen gedaan waar je geen beweging hoeft te maken. Je gebruik je mind om de voorgezegde oefening te volgend. Fijn voor mensen met veel pijn in hun lichaam of met een blessure of mensen dat hebben ontspanning nodig.

de les gaat door met 4 deelnemers of meer.
STATUS:CONFIRMED
SEQUENCE:0
END:VEVENT
END:VCALENDAR