BEGIN:VCALENDAR
VERSION:2.0
CALSCALE:GREGORIAN
BEGIN:VEVENT
SUMMARY:Aroma Touch massage (45 min) of Aroma Touch Plus (90 min)
DTSTART;TZID=Europe/Amsterdam:20240307T090000
DTEND;TZID=Europe/Amsterdam:20240307T103000
LOCATION:Zeddam
DESCRIPTION: De aromatouch massage is een manier om op een heerlijke en ontspannen manier de kracht van essentiële oliën te ervaren. De techniek is ontwikkelt door Dr. David Hill, oprichter van doTERRA en een vooraanstaand expert in integratieve geneeskunde en therapeutische toepassingen van etherische oliën.
De AromaTouch™ massage werkt met essentiële oliën en een vriendelijke aanraking langs de meridiaan energiebanen en viscerale contactpunten van de rug tot de voeten.
Het doel is het lichaam te helpen zowel het sympathische als parasympatische zenuwstelsel in evenwicht te brengen.
AromaTouch™ is een zachte, ritmische aanraking die, door middel van essentiële oliën die diep het weefsel binnen dringen, ondersteuning geeft daar waar nodig is.
Een AromaTouch™ techniek behandeling duurt circa 45-60 minuten en een Aroma Touch Plus behandeling duurt 80-90 min.
STATUS:CONFIRMED
SEQUENCE:0
END:VEVENT
END:VCALENDAR