BEGIN:VCALENDAR
VERSION:2.0
CALSCALE:GREGORIAN
BEGIN:VEVENT
SUMMARY:Yin Yoga &amp; Yoga Nidra
DTSTART;TZID=Europe/Amsterdam:20240419T190000
DTEND;TZID=Europe/Amsterdam:20240419T203000
LOCATION:Zeddam
DESCRIPTION: Geniet van een rustgevende uur durende Yin Yoga les, waarin we diep in stretches zakken om spanning los te laten en de flexibiliteit te vergroten. Na deze kalmerende practice wordt de ervaring versterkt met een verkwikkende half uur durende Yoga Nidra-sessie, die je in een staat van diepe ontspanning brengt en innerlijke rust bevordert. Ontdek de harmonie van lichaam en geest in deze unieke combinatie van Yin Yoga en Yoga Nidra.
Yin yoga is een bijvoegingen aan je ander yoga lessen en of sport oefeningen. Je spieren worden niet sterker ervan maar je banden en pezen wel soepeler van Yin Yoga. Zorg dat je voldoende beweging krijgen als je allen Yin Yoga oefenen anders wordt je spieren slapper ipv sterker. Is wel fijn als je hardlopen, fietsen en of krachttraining doet. 
De les gaat door met 4 deelnemers of meer.
STATUS:CONFIRMED
SEQUENCE:0
END:VEVENT
END:VCALENDAR