BEGIN:VCALENDAR
VERSION:2.0
CALSCALE:GREGORIAN
BEGIN:VEVENT
SUMMARY:geen lessen ivm STEMBUREAU in de Spil
DTSTART;TZID=Europe/Amsterdam:20251029T091500
DTEND;TZID=Europe/Amsterdam:20251029T113000
LOCATION:Lent, DE SPIL
DESCRIPTION: 
STATUS:CONFIRMED
SEQUENCE:0
END:VEVENT
END:VCALENDAR