BEGIN:VCALENDAR
VERSION:2.0
CALSCALE:GREGORIAN
BEGIN:VEVENT
SUMMARY:In Studio Guided Postures, Breathwork and Meditation
DTSTART;TZID=Europe/Dublin:20220330T100000
DTEND;TZID=Europe/Dublin:20220330T111500
LOCATION:YogaVeda Living
DESCRIPTION: A balanced class of postures, breathing techniques and meditation
STATUS:CONFIRMED
SEQUENCE:0
END:VEVENT
END:VCALENDAR