BEGIN:VCALENDAR
VERSION:2.0
CALSCALE:GREGORIAN
BEGIN:VEVENT
SUMMARY:In Studio All Levels (Led)
DTSTART;TZID=Europe/Dublin:20220520T100000
DTEND;TZID=Europe/Dublin:20220520T111500
LOCATION:YogaVeda Living
DESCRIPTION: Postures, Breathwork and Meditation suitable for all levels of practitioner.
STATUS:CONFIRMED
SEQUENCE:0
END:VEVENT
END:VCALENDAR