BEGIN:VCALENDAR
VERSION:2.0
CALSCALE:GREGORIAN
BEGIN:VEVENT
SUMMARY:In Studio Dynamic Postures for Strength and Flexibility
DTSTART;TZID=Europe/Dublin:20220319T090000
DTEND;TZID=Europe/Dublin:20220319T103000
LOCATION:YogaVeda Living
DESCRIPTION: A posture class to help maintain skeleto-muscular strength.
STATUS:CONFIRMED
SEQUENCE:0
END:VEVENT
END:VCALENDAR