BEGIN:VCALENDAR
VERSION:2.0
CALSCALE:GREGORIAN
BEGIN:VEVENT
SUMMARY:In Studio All Levels (Mysore)
DTSTART;TZID=Europe/Dublin:20220528T090000
DTEND;TZID=Europe/Dublin:20220528T103000
LOCATION:YogaVeda Living
DESCRIPTION: Mysore style means that the student does their practice under the supervision of the teachers, who teach them how to refine and deepen their practice, and advise on modifications, alignment and technique. 90mins
STATUS:CONFIRMED
SEQUENCE:0
END:VEVENT
END:VCALENDAR