BEGIN:VCALENDAR
VERSION:2.0
CALSCALE:GREGORIAN
BEGIN:VEVENT
SUMMARY:In Studio All Levels (Mysore)
DTSTART;TZID=Europe/Dublin:20220525T060000
DTEND;TZID=Europe/Dublin:20220525T073000
LOCATION:YogaVeda Living
DESCRIPTION: The teacher will guide each practitioner individually as they move through the practice, giving one-to-one instruction in a group class setting.
STATUS:CONFIRMED
SEQUENCE:0
END:VEVENT
END:VCALENDAR