BEGIN:VCALENDAR
VERSION:2.0
CALSCALE:GREGORIAN
BEGIN:VEVENT
SUMMARY:Online Hatha Yoga Class
DTSTART;TZID=Europe/Dublin:20211020T100000
DTEND;TZID=Europe/Dublin:20211020T113000
LOCATION:YVL Online
DESCRIPTION: A balance of postures, breathing techniques and meditation
STATUS:CONFIRMED
SEQUENCE:0
END:VEVENT
END:VCALENDAR