BEGIN:VCALENDAR
VERSION:2.0
CALSCALE:GREGORIAN
BEGIN:VEVENT
SUMMARY:Online Guided Postures, Breathwork and Meditation
DTSTART;TZID=Europe/Dublin:20220121T100000
DTEND;TZID=Europe/Dublin:20220121T111500
LOCATION:YVL Online
DESCRIPTION: A balance of postures, breathing techniques and meditation.
STATUS:CONFIRMED
SEQUENCE:0
END:VEVENT
END:VCALENDAR