BEGIN:VCALENDAR
VERSION:2.0
CALSCALE:GREGORIAN
BEGIN:VEVENT
SUMMARY:In Studio Beginners
DTSTART;TZID=Europe/Dublin:20220410T104500
DTEND;TZID=Europe/Dublin:20220410T113000
LOCATION:YVL Online
DESCRIPTION: A perfect introduction to yoga postures, breathing techniques and more. Suitable for absolute beginners and for continuing students wanting to restart practice.
STATUS:CONFIRMED
SEQUENCE:0
END:VEVENT
END:VCALENDAR