BEGIN:VCALENDAR
VERSION:2.0
CALSCALE:GREGORIAN
BEGIN:VEVENT
SUMMARY:In Studio Men&#039;s Health Challenge
DTSTART;TZID=Europe/Dublin:20220313T074500
DTEND;TZID=Europe/Dublin:20220313T084500
LOCATION:YogaVeda Living
DESCRIPTION: Weekly Meeting of Men&#039;s Health Challenge Group to set goals and practices for the current week.
STATUS:CONFIRMED
SEQUENCE:0
END:VEVENT
END:VCALENDAR