BEGIN:VCALENDAR
VERSION:2.0
CALSCALE:GREGORIAN
BEGIN:VEVENT
SUMMARY:Online All Levels (Mysore)
DTSTART;TZID=Europe/Dublin:20220511T060000
DTEND;TZID=Europe/Dublin:20220511T073000
LOCATION:YVL Online
DESCRIPTION: One-to-one guidance in a group setting - practice quietly and receive practice tips and help to refine and strengthen your posture technique and alignment.
STATUS:CONFIRMED
SEQUENCE:0
END:VEVENT
END:VCALENDAR