BEGIN:VCALENDAR
VERSION:2.0
CALSCALE:GREGORIAN
BEGIN:VEVENT
SUMMARY:Hatha yoga
DTSTART;TZID=Europe/Copenhagen:20260608T184500
DTEND;TZID=Europe/Copenhagen:20260608T194500
LOCATION:Yoga by Mikenta, Albertslund station
DESCRIPTION: Hatha yoga is the branch of yoga that typically comes to mind when you think of yoga in general terms. The practice involves breath, body, and mind, and classes are usually 45 minutes to 90 minutes of breathing, yoga poses, and meditation.
STATUS:CONFIRMED
SEQUENCE:0
END:VEVENT
END:VCALENDAR