BEGIN:VCALENDAR
VERSION:2.0
CALSCALE:GREGORIAN
BEGIN:VEVENT
SUMMARY:Abs Blast- FREE
DTSTART;TZID=Europe/London:20220104T183000
DTEND;TZID=Europe/London:20220104T185000
LOCATION:Online
DESCRIPTION: FREE 20 minute core/ abs workout
STATUS:CONFIRMED
SEQUENCE:0
END:VEVENT
END:VCALENDAR