BEGIN:VCALENDAR
VERSION:2.0
CALSCALE:GREGORIAN
BEGIN:VEVENT
SUMMARY:Mixed Level Vinyasa Flow  6.15pm - ONLINE - UKRAINE FUNDRAISER
DTSTART;TZID=Europe/London:20220315T181500
DTEND;TZID=Europe/London:20220315T191500
LOCATION:Online
DESCRIPTION: All the proceeds from this class will be donated to the Disaster Emergency Committee for the Ukraine Appeal
https://www.dec.org.uk/appeal/ukraine-humanitarian-appeal

Charli Sklar is inviting you to a scheduled Zoom meeting.

Topic: Ukraine Fundraiser
Time: Mar 15, 2022 06:15 PM London

Join Zoom Meeting
https://us02web.zoom.us/j/82907727296

Meeting ID: 829 0772 7296
Passcode: 526241
One tap mobile
+16699006833,,82907727296#,,,,*526241# US (San Jose)
+19292056099,,82907727296#,,,,*526241# US (New York)

Dial by your location
        +1 669 900 6833 US (San Jose)
        +1 929 205 6099 US (New York)
        +1 253 215 8782 US (Tacoma)
        +1 301 715 8592 US (Washington DC)
        +1 312 626 6799 US (Chicago)
        +1 346 248 7799 US (Houston)
Meeting ID: 829 0772 7296
Passcode: 526241
Find your local number: https://us02web.zoom.us/u/kegWMI8V0a
STATUS:CONFIRMED
SEQUENCE:0
END:VEVENT
END:VCALENDAR