BEGIN:VCALENDAR
VERSION:2.0
CALSCALE:GREGORIAN
BEGIN:VEVENT
SUMMARY:Rocket Masterclass 🚀
DTSTART;TZID=Europe/Berlin:20250803T153000
DTEND;TZID=Europe/Berlin:20250803T173000
LOCATION:Salon de Shakti
DESCRIPTION: This private two-hour class at Salon de Shakti will give us the time to work through the sequence and break down some of the key inversions, such as bakasana, pincha and headstand. We will also go back to basics regarding sun salutations and vinyasas. Come join, have fun, and bring your questions!
STATUS:CONFIRMED
SEQUENCE:0
END:VEVENT
END:VCALENDAR