BEGIN:VCALENDAR
VERSION:2.0
CALSCALE:GREGORIAN
BEGIN:VEVENT
SUMMARY:Vinyasa Yoga
DTSTART;TZID=Europe/London:20260108T181500
DTEND;TZID=Europe/London:20260108T191500
LOCATION:Liddington Village Hall
DESCRIPTION: Yoga-flow with creative sequences building strength, stamina and flexibility.  All levels welcome.
STATUS:CONFIRMED
SEQUENCE:0
END:VEVENT
END:VCALENDAR