BEGIN:VCALENDAR
VERSION:2.0
CALSCALE:GREGORIAN
BEGIN:VEVENT
SUMMARY:Hatha Vinyasa - Presencial
DTSTART;TZID=Europe/Madrid:20230427T093000
DTEND;TZID=Europe/Madrid:20230427T104500
LOCATION:Yoga &amp; Yoga Bcn
DESCRIPTION: SOL SE ENCUENTRA DE BAJA Y LA CLASE SERÁ SUSTITUIDA POR GEMMA
Clase de nivel abierto 
La práctica se adaptará a todos los niveles
STATUS:CONFIRMED
SEQUENCE:0
END:VEVENT
END:VCALENDAR