BEGIN:VCALENDAR
VERSION:2.0
CALSCALE:GREGORIAN
BEGIN:VEVENT
SUMMARY:Clase GRATIS de Yoga con Belen, Ivet y Mar en &quot;Tu libertad Interior&quot;
DTSTART;TZID=Europe/Madrid:20230514T090000
DTEND;TZID=Europe/Madrid:20230514T101500
LOCATION:Yoga &amp; Yoga Bcn
DESCRIPTION: 
STATUS:CONFIRMED
SEQUENCE:0
END:VEVENT
END:VCALENDAR