BEGIN:VCALENDAR
VERSION:2.0
CALSCALE:GREGORIAN
BEGIN:VEVENT
SUMMARY:Hatha Vinyasa-presencial
DTSTART;TZID=Europe/Madrid:20230616T093000
DTEND;TZID=Europe/Madrid:20230616T104500
LOCATION:Yoga &amp; Yoga Bcn
DESCRIPTION: RENATA SUSTITUYE A MARIONA
STATUS:CONFIRMED
SEQUENCE:0
END:VEVENT
END:VCALENDAR