BEGIN:VCALENDAR
VERSION:2.0
CALSCALE:GREGORIAN
BEGIN:VEVENT
SUMMARY:Helingscirkel - Sjamaan van het noorden
DTSTART;TZID=Europe/Amsterdam:20240329T190000
DTEND;TZID=Europe/Amsterdam:20240329T220000
LOCATION:Yogayurt
DESCRIPTION: 
STATUS:CONFIRMED
SEQUENCE:0
END:VEVENT
END:VCALENDAR