BEGIN:VCALENDAR
VERSION:2.0
CALSCALE:GREGORIAN
BEGIN:VEVENT
SUMMARY:Combi Tai Chi Tao,Yoga, ontspanning
DTSTART;TZID=Europe/Amsterdam:20240813T190000
DTEND;TZID=Europe/Amsterdam:20240813T200000
LOCATION:Yogayurt
DESCRIPTION: Les gaat door bij min. 5 deelnemers.
Zachte ontspannen bewegingen en een liggende eindontspanning. 
Bij mooi weer buiten @yogayurt Klazienaveen-Noord 
(10,- contant of betaalverzoek)

Handdoek en evt water mee, matjes zijn aanwezig
STATUS:CONFIRMED
SEQUENCE:0
END:VEVENT
END:VCALENDAR